BEGIN:VCALENDAR
VERSION:2.0
PRODID:-//Olaf Wieghorst Museum - ECPv6.15.20//NONSGML v1.0//EN
CALSCALE:GREGORIAN
METHOD:PUBLISH
X-WR-CALNAME:Olaf Wieghorst Museum
X-ORIGINAL-URL:https://wieghorstmuseum.org
X-WR-CALDESC:Events for Olaf Wieghorst Museum
REFRESH-INTERVAL;VALUE=DURATION:PT1H
X-Robots-Tag:noindex
X-PUBLISHED-TTL:PT1H
BEGIN:VTIMEZONE
TZID:UTC
BEGIN:STANDARD
TZOFFSETFROM:+0000
TZOFFSETTO:+0000
TZNAME:UTC
DTSTART:20250101T000000
END:STANDARD
END:VTIMEZONE
BEGIN:VEVENT
DTSTART;TZID=UTC:20260215T120000
DTEND;TZID=UTC:20260215T140000
DTSTAMP:20260424T123755
CREATED:20260123T010347Z
LAST-MODIFIED:20260204T220349Z
UID:3153-1771156800-1771164000@wieghorstmuseum.org
SUMMARY:Paint with Julia
DESCRIPTION:You are invited to spend an afternoon with internationally known artist Julia Volodina. \n  \n  \n\n\n \n\n\nJulia is a classically trained artist who has agreed to paint with us every Sunday afternoon – weather permitting – in the Wieghorst Botanical Garden. \nAnyone can come by to watch\, ask questions or bring their own equipment and paint with her. \nJulia will be focusing on representational art – in the tradition of Olaf Wieghorst – but her art spans many genres. Whether novice or professional\, Julia can guide and inspire artists developing their knowledge and skills. \nThe Olaf Wieghorst Museum is excited to offer this new opportunity for interacting with the art community. \nCome Paint with Julia! \n 
URL:https://wieghorstmuseum.org/event/paint-with-julia-2/
LOCATION:Olaf Wieghorst Museum\, 131 Rea Ave\, El Cajon\, CA\, 92020\, United States
END:VEVENT
END:VCALENDAR