BEGIN:VCALENDAR
VERSION:2.0
PRODID:-//Olaf Wieghorst Museum - ECPv6.15.20//NONSGML v1.0//EN
CALSCALE:GREGORIAN
METHOD:PUBLISH
X-ORIGINAL-URL:https://wieghorstmuseum.org
X-WR-CALDESC:Events for Olaf Wieghorst Museum
REFRESH-INTERVAL;VALUE=DURATION:PT1H
X-Robots-Tag:noindex
X-PUBLISHED-TTL:PT1H
BEGIN:VTIMEZONE
TZID:UTC
BEGIN:STANDARD
TZOFFSETFROM:+0000
TZOFFSETTO:+0000
TZNAME:UTC
DTSTART:20240101T000000
END:STANDARD
END:VTIMEZONE
BEGIN:VEVENT
DTSTART;TZID=UTC:20251121T110000
DTEND;TZID=UTC:20251231T170000
DTSTAMP:20260424T052606
CREATED:20251122T064719Z
LAST-MODIFIED:20251122T084111Z
UID:3021-1763722800-1767200400@wieghorstmuseum.org
SUMMARY:Mary Jane Parkinson Exhibition
DESCRIPTION:On Display Now!\nThe private world of author Mary Jane Parkinson\n  \n \n  \n\nMary Jane Parkinson is a name synonymous with Arabian horses. She is the author of several books about the Arabian horse including: \nThe Kellogg Arabian Ranch: the First 50 Years (1975) \nThe Tersk Heritage: in Recognition of the History and Future of the Arabian Horse (co-author) (1986) \nAnd Ride Away Singing (1989) \nThe Romance of the Kellogg Ranch (1990) \nGladys Brown Edwards: Artist\, Scholar\, Author (2006) \n“Janey” served for over twenty (20) years as Editor of the Arabian Horse World Magazine\, becoming a leading voice and authority in the industry. \nPlease join us for a tribute to this 99 year old chronicler of the Arabian horse in America. \n. . .\nFor information about attendance at the \nMary Jane Parkinson Legacy Reception \non \nFriday\, December 12\, 2025\, \ncontact: ecaa@eastcountyart.org  \nOr Click Here \nReception Information  \n  \nLearn more about Mary Jane Parkinson at \nMary Jane Parkinson \n  \n 
URL:https://wieghorstmuseum.org/event/mary-jane-parkinson/
LOCATION:Olaf Wieghorst Museum\, 131 Rea Ave\, El Cajon\, CA\, 92020\, United States
END:VEVENT
END:VCALENDAR