BEGIN:VCALENDAR
VERSION:2.0
PRODID:-//Olaf Wieghorst Museum - ECPv6.15.20//NONSGML v1.0//EN
CALSCALE:GREGORIAN
METHOD:PUBLISH
X-ORIGINAL-URL:https://wieghorstmuseum.org
X-WR-CALDESC:Events for Olaf Wieghorst Museum
REFRESH-INTERVAL;VALUE=DURATION:PT1H
X-Robots-Tag:noindex
X-PUBLISHED-TTL:PT1H
BEGIN:VTIMEZONE
TZID:UTC
BEGIN:STANDARD
TZOFFSETFROM:+0000
TZOFFSETTO:+0000
TZNAME:UTC
DTSTART:20170101T000000
END:STANDARD
END:VTIMEZONE
BEGIN:VEVENT
DTSTART;VALUE=DATE:20181206
DTEND;VALUE=DATE:20181207
DTSTAMP:20260424T064411
CREATED:20180823T202748Z
LAST-MODIFIED:20181003T162302Z
UID:560-1544054400-1544140799@wieghorstmuseum.org
SUMMARY:The Holiday Luncheon - Tickets are available online at the website shop.
DESCRIPTION:“Celebrate the Holidays”
URL:https://wieghorstmuseum.org/event/the-holiday-luncheon/
LOCATION:Olaf Wieghorst Museum\, 131 Rea Ave\, El Cajon\, CA\, 92020\, United States
END:VEVENT
BEGIN:VEVENT
DTSTART;VALUE=DATE:20181126
DTEND;VALUE=DATE:20181230
DTSTAMP:20260424T064411
CREATED:20180812T155336Z
LAST-MODIFIED:20181128T190051Z
UID:545-1543190400-1546127999@wieghorstmuseum.org
SUMMARY:American Quilt Show and Demonstration with Cheryl Minshew
DESCRIPTION:Various quilters will be on hand giving demonstrations and talking about the history of quilts during the Underground Railway.  View an 1880 quilt made by New York prisoners and a collection of miniature sewing machines that traveling salesmen carried with them for their sale pitches.  Learn the names for different patterns.  Special seasonal quilt items will be available through the gift shop. \nDemonstration by Cheryl Minshew on Saturday December 1st from 10am to 3pm! \n \n 
URL:https://wieghorstmuseum.org/event/american-quilt-show-and-demonstation-with-cheryl-minshew/
LOCATION:Olaf Wieghorst Museum\, 131 Rea Ave\, El Cajon\, CA\, 92020\, United States
END:VEVENT
BEGIN:VEVENT
DTSTART;TZID=UTC:20181125T120000
DTEND;TZID=UTC:20181125T180000
DTSTAMP:20260424T064411
CREATED:20181120T215038Z
LAST-MODIFIED:20181120T215038Z
UID:711-1543147200-1543168800@wieghorstmuseum.org
SUMMARY:SMALL BUSINESS DAY
DESCRIPTION:The Olaf Wieghorst Museum is participating in Small Business Day.  The Museum will have a tented booth in our Garden Patio with discounted items from our gift shop “Olaf’s Corner”\, as well as our first plant sale!  There will be both potted plants and cuttings of plants from our Garden\, most being cactus and succulents representing the arid regions of the world.  Please join us for this exciting event! \n 
URL:https://wieghorstmuseum.org/event/small-business-day/
END:VEVENT
BEGIN:VEVENT
DTSTART;TZID=UTC:20181118T130000
DTEND;TZID=UTC:20181118T160000
DTSTAMP:20260424T064411
CREATED:20181027T172452Z
LAST-MODIFIED:20181027T174216Z
UID:688-1542546000-1542556800@wieghorstmuseum.org
SUMMARY:72nd Annual Mother Goose Parade!
DESCRIPTION:Vinnie will lead the Hole in the Wall gang & others to the Wieghorst Museum!  See you there! \n \n  \n 
URL:https://wieghorstmuseum.org/event/72nd-annual-mother-goose-parade/
END:VEVENT
BEGIN:VEVENT
DTSTART;TZID=UTC:20181102T183000
DTEND;TZID=UTC:20181102T210000
DTSTAMP:20260424T064411
CREATED:20181025T185043Z
LAST-MODIFIED:20181118T162242Z
UID:673-1541183400-1541192400@wieghorstmuseum.org
SUMMARY:MOVIE NIGHT\, Friday November 2nd - COWBOYS & ALIENS
DESCRIPTION:
URL:https://wieghorstmuseum.org/event/movie-night-friday-november-2nd-cowboys-aliens/
END:VEVENT
BEGIN:VEVENT
DTSTART;VALUE=DATE:20181027
DTEND;VALUE=DATE:20181104
DTSTAMP:20260424T064411
CREATED:20180812T155212Z
LAST-MODIFIED:20181004T131957Z
UID:542-1540598400-1541289599@wieghorstmuseum.org
SUMMARY:Halloween Event - Day of the Dead Art Show
DESCRIPTION:Movie on November 2 – Cowboys and Aliens with Harrison Ford & Daniel Craig\, doors open at 5:30pm\, movie will begin at 6:30pm. \n$7.00 includes the movie with refreshments provided by Burning Beard Brewery and Orville Redenbacher Popcorn!! \nTickets are available online at the Olaf Wieghorst Museum website shop. \n \nOlaf Wieghorst with Orville Redenbacher
URL:https://wieghorstmuseum.org/event/halloween-event-day-of-the-dead-art-show/
LOCATION:Olaf Wieghorst Museum\, 131 Rea Ave\, El Cajon\, CA\, 92020\, United States
END:VEVENT
BEGIN:VEVENT
DTSTART;TZID=UTC:20181020T083000
DTEND;TZID=UTC:20181020T170000
DTSTAMP:20260424T064411
CREATED:20180823T201233Z
LAST-MODIFIED:20180823T203637Z
UID:555-1540024200-1540054800@wieghorstmuseum.org
SUMMARY:Fall Festival at East County Feed & Supply
DESCRIPTION:Participate in activities including: \n\nDunk tank\nBean bag toss\nCalf roping\nMini putt golf\nFace painting\nPumpkin decorating\nSpin the wheel.\n\nThere will be popcorn & cotton candy
URL:https://wieghorstmuseum.org/event/fall-festival-at-east-county-feed-supply/
LOCATION:East County Feed & Supply\, 10845 Woodside Avenue\, Santee\, 92071\, United States
END:VEVENT
BEGIN:VEVENT
DTSTART;VALUE=DATE:20181009
DTEND;VALUE=DATE:20181025
DTSTAMP:20260424T064411
CREATED:20180812T154905Z
LAST-MODIFIED:20181005T155322Z
UID:539-1539043200-1540425599@wieghorstmuseum.org
SUMMARY:Western Hat Show
DESCRIPTION:Hat demo day is Tuesday\, October 16\, from 4:30 to 7:30. The owner of AB Hatter\, Alicia Bandana Hatters\, will do a blocking demonstration at 6 p.m. She will be available all evening to talk about hats\, their history\, how to re furbish the favorite hat rather than throw it away\, what types of hats ladies should buy to flatter their face. how hats are resized\, cleaning and what materials go into making hats. \nVisit the web shop for the book Hats and the Cowboys Who Wear Them!
URL:https://wieghorstmuseum.org/event/western-hat-show/
LOCATION:Olaf Wieghorst Museum\, 131 Rea Ave\, El Cajon\, CA\, 92020\, United States
END:VEVENT
BEGIN:VEVENT
DTSTART;VALUE=DATE:20180910
DTEND;VALUE=DATE:20181025
DTSTAMP:20260424T064411
CREATED:20180812T154733Z
LAST-MODIFIED:20180929T191726Z
UID:537-1536537600-1540425599@wieghorstmuseum.org
SUMMARY:Western Poster Show
DESCRIPTION:This show features Cowboy Artists of America\, vintage rodeo\, Olaf Wieghorst Western Days posters\, movie posters and others at discounted prices.  All poster with red dots are for sale!
URL:https://wieghorstmuseum.org/event/western-poster-show/
LOCATION:Olaf Wieghorst Museum\, 131 Rea Ave\, El Cajon\, CA\, 92020\, United States
END:VEVENT
END:VCALENDAR