BEGIN:VCALENDAR
VERSION:2.0
PRODID:-//Olaf Wieghorst Museum - ECPv6.15.20//NONSGML v1.0//EN
CALSCALE:GREGORIAN
METHOD:PUBLISH
X-ORIGINAL-URL:https://wieghorstmuseum.org
X-WR-CALDESC:Events for Olaf Wieghorst Museum
REFRESH-INTERVAL;VALUE=DURATION:PT1H
X-Robots-Tag:noindex
X-PUBLISHED-TTL:PT1H
BEGIN:VTIMEZONE
TZID:UTC
BEGIN:STANDARD
TZOFFSETFROM:+0000
TZOFFSETTO:+0000
TZNAME:UTC
DTSTART:20180101T000000
END:STANDARD
END:VTIMEZONE
BEGIN:VEVENT
DTSTART;TZID=UTC:20210917T090000
DTEND;TZID=UTC:20210917T153000
DTSTAMP:20260424T014104
CREATED:20210517T221033Z
LAST-MODIFIED:20210518T060630Z
UID:1341-1631869200-1631892600@wieghorstmuseum.org
SUMMARY:The Salmagundi Club is coming to the Wieghorst!
DESCRIPTION:The New York Salmagundi Club was established in 1871 by a sculptor and his 2 brothers. As one of the oldest American art clubs many notable artists were past members; Thomas Moran\, Louis Tiffany\, N.C. Wyeth\, Norman Rockwell\, Dana Gibson and Howard Pyle to name a few. \nThe club is promoting plein air painting (painting outside in natural sunlight) by asking Salmagundi members to put on a free event\, beginning in September to encourage plein air painting. \nLocal Salmagundi members have partnered with the Olaf Wieghorst Museum to host an event Friday\, September 17\, 2021 in the cactus garden or surrounding area. \nThe artists will paint from 9 to 12\, break for a one hour lunch\, return to the garden for a critique and then artists may choose to exhibit their completed work in the Wieghorst Museum for 6 weeks. 30% of any sale will go to benefit the Museum. \nFor detailed information contact Gloria Chadwick at 619 203-0607 or gloriaachadwick@gmail.com. The event is free for any artist wishing to participate.
URL:https://wieghorstmuseum.org/event/the-salmagundi-club-is-coming-to-the-wieghorst/
LOCATION:Olaf Wieghorst Museum\, 131 Rea Ave\, El Cajon\, CA\, 92020\, United States
ORGANIZER;CN="Gloria Chadwick":MAILTO:gloriaachadwick@gmail.com
END:VEVENT
BEGIN:VEVENT
DTSTART;TZID=UTC:20210724T170000
DTEND;TZID=UTC:20210724T200000
DTSTAMP:20260424T014104
CREATED:20210715T073232Z
LAST-MODIFIED:20210715T080755Z
UID:1397-1627146000-1627156800@wieghorstmuseum.org
SUMMARY:Artists Reception - Robert Pace Kidd
DESCRIPTION:Robert Pace Kidd \nThe public is cordially invited to attend a reception for noted Rosarito artist: Robert Pace Kidd. \nKnown as the cowboy surfer artist by his international base of fans\, his work is on display in the Museum’s forward gallery. \nMeet the artist in an informal setting. \nAdmission is free. Free parking.
URL:https://wieghorstmuseum.org/event/artists-reception-robert-pace-kidd/
LOCATION:Olaf Wieghorst Museum\, 131 Rea Ave\, El Cajon\, CA\, 92020\, United States
END:VEVENT
BEGIN:VEVENT
DTSTART;TZID=UTC:20210702T110000
DTEND;TZID=UTC:20210807T150000
DTSTAMP:20260424T014104
CREATED:20210630T011557Z
LAST-MODIFIED:20210630T011747Z
UID:1363-1625223600-1628348400@wieghorstmuseum.org
SUMMARY:R. P. Kidd Exhibition
DESCRIPTION:Call museum for extended exhibition dates and hours.
URL:https://wieghorstmuseum.org/event/r-p-kidd-exhibition/
LOCATION:Olaf Wieghorst Museum\, 131 Rea Ave\, El Cajon\, CA\, 92020\, United States
END:VEVENT
BEGIN:VEVENT
DTSTART;VALUE=DATE:20201201
DTEND;VALUE=DATE:20201221
DTSTAMP:20260424T014104
CREATED:20200715T141659Z
LAST-MODIFIED:20200917T121903Z
UID:1222-1606780800-1608508799@wieghorstmuseum.org
SUMMARY:Plein-air Art Workshops at Olaf Wieghorst Museum Cactus Garden
DESCRIPTION:Hosted by East County Arts Association (eastcountyart.org)\, there will be a total of 3 workshops\, all at the Olaf Wieghorst Museum Cactus Garden.\nThe 3rd workshop will focus on calligraphy.\nNOTE: A date has not yet been established but will be in December.\nWhen a date is established\, you may register at http://eastcountyart.org\n  \n  \n 
URL:https://wieghorstmuseum.org/event/plein-art-workshops-at-olaf-wieghorst-museum-cactus-garden-3/
LOCATION:CA
END:VEVENT
BEGIN:VEVENT
DTSTART;TZID=UTC:20201017T090000
DTEND;TZID=UTC:20201017T123000
DTSTAMP:20260424T014104
CREATED:20200715T140655Z
LAST-MODIFIED:20200911T204933Z
UID:1218-1602925200-1602937800@wieghorstmuseum.org
SUMMARY:Plein-air Art Workshops at Olaf Wieghorst Museum Cactus Garden
DESCRIPTION:Hosted by East County Arts Association (eastcountyart.org)\, there will be a total of 3 workshops\, all at the Olaf Wieghorst Museum Cactus Garden.\n8/15/20 from 9am to 12:30pm Watercolor & Mixed Media with Chuck McPherson.\n  \nChuck will share thought about painting in acrylic on wood panel and demonstrate in watercolor from 9am to 10am.  Artists are free to paint around Garden with input available unto 12:30pm.\nChuck’s website is http://chuckmcphersonart.com\nRegister at http://eastcountyart.org\nMembers $30.00\nNon-Members $35.00\n 
URL:https://wieghorstmuseum.org/event/plein-art-workshops-at-olaf-wieghorst-museum-cactus-garden-2/
LOCATION:CA
END:VEVENT
BEGIN:VEVENT
DTSTART;VALUE=DATE:20201001
DTEND;VALUE=DATE:20201103
DTSTAMP:20260424T014104
CREATED:20191017T191327Z
LAST-MODIFIED:20201007T010842Z
UID:1149-1601535600-1604303999@wieghorstmuseum.org
SUMMARY:2020 Ghostriders Fundraising Event!
DESCRIPTION:It is our 5th annual GhostRiders event!\nStay safe at home and avoid the virus.\n \nOn-line donations via Olaf’s Corner Gift Shop!\n 
URL:https://wieghorstmuseum.org/event/2020-ghostriders-fundraising-event/
LOCATION:CA
END:VEVENT
BEGIN:VEVENT
DTSTART;TZID=UTC:20200919T090000
DTEND;TZID=UTC:20200919T120000
DTSTAMP:20260424T014104
CREATED:20200715T135427Z
LAST-MODIFIED:20200911T205246Z
UID:1216-1600506000-1600516800@wieghorstmuseum.org
SUMMARY:Plein-air Art Workshops at Olaf Wieghorst Museum Cactus Garden
DESCRIPTION:Hosted by East County Arts Association (eastcountyart.org)\, there will be a total of 3 workshops\, all at the Olaf Wieghorst Museum Cactus Garden.\n7/25/20 from 9am – 12pm Watercolor Painting with Gabriel Stockton.\nGabriel will share practical knowledge about brushes and the ways to use brushes in watercolor painting more effectively.  Gabriel’s website is http://gabrielstocktonfineart.com\nRegister at http://eastcountyart.org\nMembers $30.00       \nNon-Members $35.00
URL:https://wieghorstmuseum.org/event/plein-art-workshops-at-olaf-wieghorst-museum-cactus-garden/
LOCATION:CA
END:VEVENT
BEGIN:VEVENT
DTSTART;VALUE=DATE:20200508
DTEND;VALUE=DATE:20200601
DTSTAMP:20260424T014104
CREATED:20200508T131353Z
LAST-MODIFIED:20200508T140326Z
UID:1207-1588896000-1590969599@wieghorstmuseum.org
SUMMARY:Due to the COVID-19 pandemic\, the Museum is temporarily closed.  We are sorry for any inconvenience.
DESCRIPTION:Please go to “OLAF’S CORNER GIFT SHOP” to make a donation to the Museum.  For additional information on donations\, please contact Jim Daniels at 619-813-5070.
URL:https://wieghorstmuseum.org/event/due-to-the-covid-19-issue-the-museum-is-temporarily-closed-we-are-sorry-for-any-inconvenience/
LOCATION:CA
END:VEVENT
BEGIN:VEVENT
DTSTART;TZID=UTC:20191205T170000
DTEND;TZID=UTC:20191205T193000
DTSTAMP:20260424T014104
CREATED:20180928T124347Z
LAST-MODIFIED:20191112T140641Z
UID:602-1575565200-1575574200@wieghorstmuseum.org
SUMMARY:Life Drawing Classes
DESCRIPTION:The Olaf Wieghorst Museum will have a life drawing class every 1st Thursday of the month. \n$10 per person each meeting. ($2.00 to Museum and $8.00 to model) \nThese will be; 2\, 5\, 10 and 20 minute poses.  Bring your own supplies.  5 to 7:30 p.m. time may be adjusted as we get established. \nPlease RSVP Gloria Chadwick (gloriachadwick@yahoo.com) so a head count for room set up can be established.
URL:https://wieghorstmuseum.org/event/life-drawing-classes/
LOCATION:CA
END:VEVENT
BEGIN:VEVENT
DTSTART;TZID=UTC:20191101T173000
DTEND;TZID=UTC:20191101T203000
DTSTAMP:20260424T014104
CREATED:20191006T135931Z
LAST-MODIFIED:20191007T152908Z
UID:1134-1572629400-1572640200@wieghorstmuseum.org
SUMMARY:Movie Night 2019 - ELDORADO starring John Wayne
DESCRIPTION:‘ELDORADO’\, starring John Wayne\, Robert Mitchum\, James Caan and Olaf Wieghorst as Swede Larsen the gunsmith.  Also\, the movie features Olaf’s paintings as backdrops during the credits! \nAs you may or may not know\, Olaf Wieghorst & John Wayne were friends.  There is a permanent exhibit in the museum dedicated to John Wayne.  Take a look before the movie. \nComplimentary Orville Redenbacher (also a friend of Olaf’s) Popcorn will be served.  Bring your own beverage of choice for the evening. \nDoors open at 5:30pm\, movie starts at 6pm. \nYou don’t want to miss this movie night!!\n\n\n   James Caan\,                 John Wayne\,              Olaf Wieghorst
URL:https://wieghorstmuseum.org/event/movie-night-2019-eldorado-starring-john-wayne/
LOCATION:CA
END:VEVENT
BEGIN:VEVENT
DTSTART;TZID=UTC:20191024T163000
DTEND;TZID=UTC:20191024T190000
DTSTAMP:20260424T014104
CREATED:20191022T115302Z
LAST-MODIFIED:20191022T115302Z
UID:1152-1571934600-1571943600@wieghorstmuseum.org
SUMMARY:Robert P. Kidd artist's reception.
DESCRIPTION:
URL:https://wieghorstmuseum.org/event/robert-p-kidd-artists-reception/
LOCATION:CA
END:VEVENT
BEGIN:VEVENT
DTSTART;VALUE=DATE:20191013
DTEND;VALUE=DATE:20191111
DTSTAMP:20260424T014104
CREATED:20190828T131526Z
LAST-MODIFIED:20191027T135838Z
UID:1101-1570924800-1573430399@wieghorstmuseum.org
SUMMARY:Robert Kidd Exhibit  -  Please come and enjoy the fabulous art!
DESCRIPTION:
URL:https://wieghorstmuseum.org/event/robert-kidd-exhibit/
LOCATION:CA
END:VEVENT
BEGIN:VEVENT
DTSTART;TZID=UTC:20190803T160000
DTEND;TZID=UTC:20190803T210000
DTSTAMP:20260424T014104
CREATED:20190622T141835Z
LAST-MODIFIED:20190726T233506Z
UID:929-1564848000-1564866000@wieghorstmuseum.org
SUMMARY:OLAF WIEGHORST RESTROSPECTIVE - "Purchase your tickets from Olaf's Corner Gift Shop!"
DESCRIPTION:  \n \nClick here to purchase your event admission today!
URL:https://wieghorstmuseum.org/event/olaf-wieghorst-restrospective-save-the-date/
LOCATION:CA
END:VEVENT
BEGIN:VEVENT
DTSTART;VALUE=DATE:20190718
DTEND;VALUE=DATE:20190719
DTSTAMP:20260424T014104
CREATED:20190510T140217Z
LAST-MODIFIED:20190510T140217Z
UID:906-1563408000-1563494399@wieghorstmuseum.org
SUMMARY:Life Drawing Classes
DESCRIPTION:The Life Drawing classes will resume August 1\, 2019. Enjoy the summer and see you then!
URL:https://wieghorstmuseum.org/event/life-drawing-classes-7/
LOCATION:CA
END:VEVENT
BEGIN:VEVENT
DTSTART;VALUE=DATE:20190704
DTEND;VALUE=DATE:20190705
DTSTAMP:20260424T014104
CREATED:20190510T140151Z
LAST-MODIFIED:20190510T140505Z
UID:904-1562198400-1562284799@wieghorstmuseum.org
SUMMARY:Life Drawing Classes
DESCRIPTION:The Life Drawing classes will resume August 1\, 2019. Enjoy the summer and see you then! \nHave a Happy 4th of July!!!
URL:https://wieghorstmuseum.org/event/life-drawing-classes-6/
LOCATION:CA
END:VEVENT
BEGIN:VEVENT
DTSTART;TZID=UTC:20190702T090000
DTEND;TZID=UTC:20190826T170000
DTSTAMP:20260424T014104
CREATED:20190706T132038Z
LAST-MODIFIED:20190706T132209Z
UID:1035-1562058000-1566838800@wieghorstmuseum.org
SUMMARY:2019 Paint & Pallet Art Contest
DESCRIPTION:
URL:https://wieghorstmuseum.org/event/2019-paint-pallet-art-contest/
LOCATION:CA
END:VEVENT
BEGIN:VEVENT
DTSTART;VALUE=DATE:20190701
DTEND;VALUE=DATE:20191101
DTSTAMP:20260424T014104
CREATED:20190216T155010Z
LAST-MODIFIED:20190828T125844Z
UID:822-1561939200-1572566399@wieghorstmuseum.org
SUMMARY:Olaf Wieghorst painting and more memorabilia in the front Gallery!  It's the 20th anniversary of the Olaf Wieghort house being moved to the museum!
DESCRIPTION:
URL:https://wieghorstmuseum.org/event/olaf-wieghorst-painting-and-more-memorabilia-in-the-front-gallery-20th-anniversary-of-the-olaf-wieghort-house-move-to-museum/
LOCATION:CA
END:VEVENT
BEGIN:VEVENT
DTSTART;VALUE=DATE:20190620
DTEND;VALUE=DATE:20190621
DTSTAMP:20260424T014104
CREATED:20190510T140039Z
LAST-MODIFIED:20190510T140039Z
UID:902-1560988800-1561075199@wieghorstmuseum.org
SUMMARY:Life Drawing Classes
DESCRIPTION:The Life Drawing classes will resume August 1\, 2019. Enjoy the summer and see you then!
URL:https://wieghorstmuseum.org/event/life-drawing-classes-5/
LOCATION:CA
END:VEVENT
BEGIN:VEVENT
DTSTART;TZID=UTC:20190608T170000
DTEND;TZID=UTC:20190608T190000
DTSTAMP:20260424T014104
CREATED:20190216T154604Z
LAST-MODIFIED:20190607T180513Z
UID:820-1560013200-1560020400@wieghorstmuseum.org
SUMMARY:ECAA (East County Arts Assoication) Open Masters of the Moment Art Reception
DESCRIPTION:Come to the reception and enjoy the art from local talent!
URL:https://wieghorstmuseum.org/event/ecaa-east-county-arts-assoication-open-masters-of-the-moment-art-reception/
LOCATION:CA
END:VEVENT
BEGIN:VEVENT
DTSTART;VALUE=DATE:20190606
DTEND;VALUE=DATE:20190607
DTSTAMP:20260424T014104
CREATED:20190510T140647Z
LAST-MODIFIED:20190510T140647Z
UID:910-1559779200-1559865599@wieghorstmuseum.org
SUMMARY:Life Drawing Classes
DESCRIPTION:The Life Drawing classes will resume August 1\, 2019. Enjoy the summer and see you then!
URL:https://wieghorstmuseum.org/event/life-drawing-classes-4/
LOCATION:CA
END:VEVENT
BEGIN:VEVENT
DTSTART;VALUE=DATE:20190604
DTEND;VALUE=DATE:20190629
DTSTAMP:20260424T014104
CREATED:20190216T154401Z
LAST-MODIFIED:20190607T180218Z
UID:817-1559606400-1561766399@wieghorstmuseum.org
SUMMARY:ECAA (East County Arts Assoication) Open Masters of the Moment Art Show
DESCRIPTION:This is an exhibit of art work submitted by artist around the San Diego area in all media that\nis juried for awards. There are 59 pieces of art that made it through the process and are hung in the front gallery for exhibit and sale. The exhibit will be on display from now through June 29th.  Please come by and enjoy the art!
URL:https://wieghorstmuseum.org/event/ecaa-east-county-arts-assoication-open-masters-of-teh-moment-art-show/
LOCATION:CA
END:VEVENT
BEGIN:VEVENT
DTSTART;VALUE=DATE:20190519
DTEND;VALUE=DATE:20190520
DTSTAMP:20260424T014104
CREATED:20190124T192707Z
LAST-MODIFIED:20190318T135155Z
UID:768-1558224000-1558310399@wieghorstmuseum.org
SUMMARY:Jack Jordan Art Sale has been cancelled due to a family illness.
DESCRIPTION:Unfortunately\, the Jack Jordan family has canceled the sale due to family illness. There are no plans at this time for another sale date in the future.
URL:https://wieghorstmuseum.org/event/jack-jordan-art-sale/
LOCATION:CA
END:VEVENT
BEGIN:VEVENT
DTSTART;VALUE=DATE:20190517
DTEND;VALUE=DATE:20190518
DTSTAMP:20260424T014104
CREATED:20190510T135914Z
LAST-MODIFIED:20190510T135914Z
UID:898-1558051200-1558137599@wieghorstmuseum.org
SUMMARY:Life Drawing Classes
DESCRIPTION:The Life Drawing classes will resume August 1\, 2019.  Enjoy the summer and see you then!
URL:https://wieghorstmuseum.org/event/life-drawing-classes-3/
LOCATION:CA
END:VEVENT
BEGIN:VEVENT
DTSTART;TZID=UTC:20190508T170000
DTEND;TZID=UTC:20190508T190000
DTSTAMP:20260424T014104
CREATED:20190312T171053Z
LAST-MODIFIED:20190409T144200Z
UID:864-1557334800-1557342000@wieghorstmuseum.org
SUMMARY:East County Chamber of Commerce Garden Mixer at the Olaf Wieghorst Museum
DESCRIPTION:Please RSVP with the East County Chamber.
URL:https://wieghorstmuseum.org/event/east-county-chamber-of-commerce-garden-mixer-at-the-olaf-wieghorst-museum/
LOCATION:CA
END:VEVENT
BEGIN:VEVENT
DTSTART;TZID=UTC:20190428T160000
DTEND;TZID=UTC:20190428T190000
DTSTAMP:20260424T014104
CREATED:20190312T125628Z
LAST-MODIFIED:20190320T151257Z
UID:853-1556467200-1556478000@wieghorstmuseum.org
SUMMARY:Sip & Paint Art Event
DESCRIPTION:Create a masterpiece!  No talent is required and everything supplied.  “If I can do it…..anyone can!!” \nAnd it’s fun\, even if you can’t draw a straight line with a ruler\, you will create a masterpiece!! \nThe event is limited to 30 people\, so get your tickets today! \nVisit Olaf’s Corner Gift Shop to purchase your tickets.
URL:https://wieghorstmuseum.org/event/sip-paint-art-event/
LOCATION:CA
END:VEVENT
BEGIN:VEVENT
DTSTART;TZID=UTC:20190420T160000
DTEND;TZID=UTC:20190420T190000
DTSTAMP:20260424T014104
CREATED:20190216T163903Z
LAST-MODIFIED:20190407T150345Z
UID:833-1555776000-1555786800@wieghorstmuseum.org
SUMMARY:Western and Rodeo Photography Show Reception
DESCRIPTION:Please join us at the reception with Richard Ybarra.  Refreshments provided by Cupid’s!  \n \n \n  \n 
URL:https://wieghorstmuseum.org/event/western-and-rodeo-photography-show-reception/
LOCATION:CA
END:VEVENT
BEGIN:VEVENT
DTSTART;VALUE=DATE:20190408
DTEND;VALUE=DATE:20190505
DTSTAMP:20260424T014104
CREATED:20190126T150543Z
LAST-MODIFIED:20190407T150430Z
UID:777-1554681600-1557014399@wieghorstmuseum.org
SUMMARY:Western and Rodeo Photography Show
DESCRIPTION:
URL:https://wieghorstmuseum.org/event/western-and-rodeo-photography-show/
LOCATION:CA
END:VEVENT
BEGIN:VEVENT
DTSTART;TZID=UTC:20190227T130000
DTEND;TZID=UTC:20190227T140000
DTSTAMP:20260424T014104
CREATED:20190124T192815Z
LAST-MODIFIED:20190217T135143Z
UID:770-1551272400-1551276000@wieghorstmuseum.org
SUMMARY:Pueblo Storyteller Pottery Dolls Talk!
DESCRIPTION:A free talk to learn about Helen Cordero who excited the 1960’s with her Pueblo pottery depicting storytellers. Learn how and where these unique figures are made. Our speaker will be Artifacts and Antiques Appraiser Craig Helm.
URL:https://wieghorstmuseum.org/event/storyteller-talk/
LOCATION:CA
END:VEVENT
BEGIN:VEVENT
DTSTART;VALUE=DATE:20190219
DTEND;VALUE=DATE:20190331
DTSTAMP:20260424T014104
CREATED:20190216T162501Z
LAST-MODIFIED:20190217T134921Z
UID:826-1550534400-1553990399@wieghorstmuseum.org
SUMMARY:Pueblo Storyteller Pottery Dolls exhibit!
DESCRIPTION:Don’t miss the free talk on Feb. 27th to learn about Helen Cordero who excited the 1960’s with her Pueblo pottery depicting storytellers. Learn how and where these unique figures are made. Our speaker will be Artifacts and Antiques Appraiser Craig Helm. \n \n \n \n \n \n 
URL:https://wieghorstmuseum.org/event/pueblo-storyteller-pottery-dolls-exhibit/
LOCATION:CA
END:VEVENT
BEGIN:VEVENT
DTSTART;TZID=UTC:20190112T100000
DTEND;TZID=UTC:20190112T150000
DTSTAMP:20260424T014104
CREATED:20181128T184159Z
LAST-MODIFIED:20181128T190824Z
UID:716-1547287200-1547305200@wieghorstmuseum.org
SUMMARY:Craig Helm - Appraiser of Native American and Western Artifacts!
DESCRIPTION:Appraiser of Native American and western artifacts\, Craig Helm has offered to conduct an appraisal day for the Museum with 100% of the proceeds gifted to the Museum. \nThank you Craig! \nJust $5 for each appraisal with a maximum of 3 items per person. Bring in your item(s) for an appraisal!
URL:https://wieghorstmuseum.org/event/craig-helm-appraiser-of-native-american-and-western-artifacts/
LOCATION:CA
END:VEVENT
END:VCALENDAR