BEGIN:VCALENDAR
VERSION:2.0
PRODID:-//Olaf Wieghorst Museum - ECPv6.15.20//NONSGML v1.0//EN
CALSCALE:GREGORIAN
METHOD:PUBLISH
X-ORIGINAL-URL:https://wieghorstmuseum.org
X-WR-CALDESC:Events for Olaf Wieghorst Museum
REFRESH-INTERVAL;VALUE=DURATION:PT1H
X-Robots-Tag:noindex
X-PUBLISHED-TTL:PT1H
BEGIN:VTIMEZONE
TZID:UTC
BEGIN:STANDARD
TZOFFSETFROM:+0000
TZOFFSETTO:+0000
TZNAME:UTC
DTSTART:20200101T000000
END:STANDARD
END:VTIMEZONE
BEGIN:VEVENT
DTSTART;TZID=UTC:20241115T080000
DTEND;TZID=UTC:20250105T080000
DTSTAMP:20260423T203234
CREATED:20241025T165701Z
LAST-MODIFIED:20241124T015018Z
UID:2580-1731657600-1736064000@wieghorstmuseum.org
SUMMARY:Moments Come and Gone
DESCRIPTION:Capture the Moments at our holiday art show.\nThe Olaf Wieghorst Museum and Western Heritage Center in El Cajon proudly presents talented young artists: \nLydia Jenson  ⦁  Noah Sandberg  ⦁  Courtney West\n \n 
URL:https://wieghorstmuseum.org/event/moments-come-and-gone/
LOCATION:Olaf Wieghorst Museum\, 131 Rea Ave\, El Cajon\, CA\, 92020\, United States
END:VEVENT
BEGIN:VEVENT
DTSTART;TZID=UTC:20241002T100000
DTEND;TZID=UTC:20241002T110000
DTSTAMP:20260423T203234
CREATED:20240811T004009Z
LAST-MODIFIED:20240811T004009Z
UID:2446-1727863200-1727866800@wieghorstmuseum.org
SUMMARY:Meet Jim Daniels
DESCRIPTION:  \nMeet Jim Daniels!\nOlaf Wieghorst Museum Foundation President Jim Daniels will be speaking to the Friends of the Santee Library. \nJim provides an engaging look at the life Olaf Wieghorst and the museum that bears the Wieghorst name. Learn what the museum is up to and the exciting plans for the museum’s future. \nThe event is free and open to the public. There is ample on-site free parking.
URL:https://wieghorstmuseum.org/event/meet-jim-daniels/
LOCATION:Santee City Hall\, 10601 Magnolia Ave\, Santee\, California\, United States
END:VEVENT
BEGIN:VEVENT
DTSTART;TZID=UTC:20240913T170000
DTEND;TZID=UTC:20241103T160000
DTSTAMP:20260423T203234
CREATED:20240929T200350Z
LAST-MODIFIED:20240929T200536Z
UID:2586-1726246800-1730649600@wieghorstmuseum.org
SUMMARY:Scenes and People of the Frontier American West
DESCRIPTION:Currently showing at the Olaf Wieghorst Museum is an exhibition of the art of Andrea Rushing and his Scenes and People of the Frontier American West. \nYou can visit the Museum on Fridays between 11 am and 3 pm or \nSaturdays between noon and 2 pm. \nDon’t miss this opportunity to see the work of this amazing local artist. \n  \n \n  \n 
URL:https://wieghorstmuseum.org/event/frontier-american-west/
LOCATION:Olaf Wieghorst Museum\, 131 Rea Ave\, El Cajon\, CA\, 92020\, United States
END:VEVENT
BEGIN:VEVENT
DTSTART;TZID=UTC:20240913T170000
DTEND;TZID=UTC:20240913T200000
DTSTAMP:20260423T203234
CREATED:20240816T044531Z
LAST-MODIFIED:20240816T231339Z
UID:2533-1726246800-1726257600@wieghorstmuseum.org
SUMMARY:Meet the Artist: Andrea Rushing
DESCRIPTION:Meet the Artist: Andrea Rushing \nThe Olaf Wieghorst Museum and Western Heritage Center in El Cajon will hold a reception for Andrea Rushing on Friday\, September 13\, 2024. \nThe reception marks the opening of the exhibition titled: \nAndrea Rushing – Scenes and People of the Frontier American West \nThe public is invited to meet Mr. Rushing and enjoy a representative display of his art. \n \nThe reception begins at 5:00 pm and will conclude at 8 pm. Admission is free. Refreshments will be served. \nMeet the Artist: Andrea Rushing is part of the 13th Annual Alley Cat Art Walk. All art galleries and restaurants in downtown El Cajon will be open with live entertainment on Prescott Promenade.
URL:https://wieghorstmuseum.org/event/meet-the-artist-andrea-rushing/
LOCATION:Olaf Wieghorst Museum\, 131 Rea Ave\, El Cajon\, CA\, 92020\, United States
END:VEVENT
BEGIN:VEVENT
DTSTART;TZID=UTC:20240504T120000
DTEND;TZID=UTC:20240615T160000
DTSTAMP:20260423T203234
CREATED:20240420T012112Z
LAST-MODIFIED:20240604T032016Z
UID:2363-1714824000-1718467200@wieghorstmuseum.org
SUMMARY:Moodscapes of America and Vivid Art by Gail
DESCRIPTION:Held over by popular demand!\nThe exhibition of art by local artists AJ Bartelle and Gail Nellans will be open through June 15\, 2024 at the Olaf Wieghorst Museum. \nWe have combined two shows into one:  “Moodscapes of America” and “Vivid Art by Gail.” \nShow hours are Fridays from 11 am to 3 pm and Saturdays from noon to 4 pm. \n \n 
URL:https://wieghorstmuseum.org/event/moodscapes-of-america-and-vivid-art-by-gail/
LOCATION:Olaf Wieghorst Museum\, 131 Rea Ave\, El Cajon\, CA\, 92020\, United States
END:VEVENT
BEGIN:VEVENT
DTSTART;VALUE=DATE:20240309
DTEND;VALUE=DATE:20240311
DTSTAMP:20260423T203234
CREATED:20231217T225918Z
LAST-MODIFIED:20231217T225918Z
UID:2351-1709942400-1710115199@wieghorstmuseum.org
SUMMARY:High School Art Workshop
DESCRIPTION:The Museum will be holding a High School Art Workshop on an invitation basis. Contact the museum for office for information.
URL:https://wieghorstmuseum.org/event/high-school-art-workshop/
LOCATION:Olaf Wieghorst Museum\, 131 Rea Ave\, El Cajon\, CA\, 92020\, United States
END:VEVENT
BEGIN:VEVENT
DTSTART;TZID=UTC:20231111T120000
DTEND;TZID=UTC:20231111T140000
DTSTAMP:20260423T203234
CREATED:20231019T041829Z
LAST-MODIFIED:20231027T231940Z
UID:2334-1699704000-1699711200@wieghorstmuseum.org
SUMMARY:Veterans Day
DESCRIPTION:The Olaf Wieghorst Museum proudly invites American Legion\, Veterans of Foreign Wars (VFW)\, Elks (BPOE) and Veterans East County Alliance (VECA) members and their families to honor and celebrate our Veterans on Veterans Day. \n \n 
URL:https://wieghorstmuseum.org/event/veterans-day/
LOCATION:Olaf Wieghorst Museum\, 131 Rea Ave\, El Cajon\, CA\, 92020\, United States
END:VEVENT
BEGIN:VEVENT
DTSTART;TZID=UTC:20231104T090000
DTEND;TZID=UTC:20231104T150000
DTSTAMP:20260423T203234
CREATED:20230922T173659Z
LAST-MODIFIED:20230923T015757Z
UID:2295-1699088400-1699110000@wieghorstmuseum.org
SUMMARY:It is a Back Country Drive on Olde Highway 80
DESCRIPTION:Please Join Us for a Back Country Drive on Olde Highway 80 \n \nThis event is part of the Old Spanish Trail Centennial Conference and Celebration to be held at the Marriott Hotel in El Cajon\, California on November 2-5\, 2023. \n\nBefore Interstate 8 there was US Highway 80. Before US Highway 80 there was an auto trail that stretched from San Diego to Florida. It was called the Old Spanish Trail Auto Highway and it is 100 years old! \n\nDownload the information and registration packet \nOther conference events include the seminar speakers on Friday morning: \n\nBonnie Fletcher\, San Diego native\, descendant of Col. Ed Fletcher\, Trustee of the San Diego History Center and Co-chair of the Ed & Mary Fletcher Foundation\,\nRobert M. Harding\, Jr\, writer\, lecturer and VP of the Lakeside Historical Society\,\nJohn W. Murphey\, architectural historian and research consultant now based in Santa Fe\, New Mexico\,\nConnie Sue Low\, Travel and Texas history writer\, and\nCharlotte Kahl\, President of the Old Spanish Trail Centennial Association.\n\nTopics include: \n\nBuilding Olde US 80\,  \nEd Fletcher: Bringing Highways to San Diego\, \nRemembering Harry Locke – Prolific US Early Highway Designer\,\nand more….\n\nAbout Us\nThe Old Spanish Trail Centennial Celebration Association (OST100) was organized to locate\, revitalize and preserve the roadway\, businesses and historic sites of the original 1920s OLD SPANISH TRAIL (OST) auto highway and to create a decade long Centennial Celebration reenacting annual conferences held by the original Old Spanish Trail Association of the early 1900s. \nPlans began in 2002 for a decade-long OST Centennial Celebration with the first reenactment set for 2015 in Mobile\, Alabama. Annual conference reenactments have been held in various cities and will culminate in a grand historic transcontinental motorcade in 2029.  \nAbout the History\nCol. Ed Fletcher\, then vice president of the Old Spanish Trail Association\, hosted the first San Diego OST conference in 1923.   \nThe San Antonio\, Texas OST Headquarters Executive Director brought together California highway engineers and commissioners\, chambers of commerce and Good Roads Club members. They discussed how best to pave the OST into and across southern California. El Cajon Boulevard and the El Cajon to Alpine\, Pine Valley and Boulevard corridors were chosen as the OST route.  \n 
URL:https://wieghorstmuseum.org/event/it-is-a-back-country-drive-on-olde-highway-80/
LOCATION:Courtyard by Marriott San Diego El Cajon\, 141 N Magnolia Ave\, El Cajon\, CA\, 92020
ORGANIZER;CN="Newell Booth":MAILTO:newellbooth@gmail.com
END:VEVENT
BEGIN:VEVENT
DTSTART;TZID=UTC:20231103T080000
DTEND;TZID=UTC:20231103T130000
DTSTAMP:20260423T203234
CREATED:20230922T174026Z
LAST-MODIFIED:20231019T042604Z
UID:2309-1698998400-1699016400@wieghorstmuseum.org
SUMMARY:Building Old Highway 80
DESCRIPTION:Building Old Highway 80 is the 100 year old story of Col. Ed Fletcher and the people who brought a transcontinental highway to San Diego. \nJoin us for a morning presentation by an outstanding lineup of historians and writers. \nThe Speakers\n\nBonnie Fletcher\, San Diego native\, descendant of Col. Ed Fletcher\, Trustee of the San Diego History Center and Co-chair of the Ed & Mary Fletcher Foundation\,\nRobert M. Harding\, Jr\, writer\, lecturer and VP of the Lakeside Historical Society\,\nJohn W. Murphey\, architectural historian and research consultant now based in Santa Fe\, New Mexico\,\nConnie Sue Low\, Travel and Texas history writer\, and\nCharlotte Kahl\, President of the Old Spanish Trail Centennial Association.\n\nThe Topics\n\nBuilding Old Highway 80\,  \nEd Fletcher: Bringing Highways to San Diego\,  \nRemembering Harry Locke – Prolific US Early Highway Designer\,\nand more….\n\nBefore Interstate 8 there was US Highway 80. Before US Highway 80 there was an auto trail that stretched from San Diego to Florida. \nTelling the story is the theme of the morning session of the Old Spanish Trail Centennial Conference and Celebration scheduled for November 3rd\, 2023 at the Marriott Hotel in El Cajon. After the morning session you are invited to browse the exhibits in the adjacent exhibit hall. Meet the speakers and relive this exciting period in San Diego history when the automobile was young. \nAttending the Event\nAttending the event is free\, however\, registration is required to attend the complimentary lunch on Friday\, November 3rd. For information\, please see the Information and Registration Packet or contact the Centennial Association at: OST100Kahl@aol.com \nAbout Us  \nThe Old Spanish Trail Centennial Celebration Association (OST100) was organized to locate\, revitalize and preserve the roadway\, businesses and historic sites of the original 1920s OLD SPANISH TRAIL (OST) auto highway and to create a decade long Centennial Celebration reenacting annual conferences held by the original Old Spanish Trail Association of the early 1900s. \nPlans began in 2002 for a decade-long OST Centennial Celebration with the first reenactment set for 2015 in Mobile\, Alabama. Annual conference reenactments have been held in various cities and will culminate in a grand historic transcontinental motorcade in 2029.  \nAbout the History \nThe first San Diego OST conference was held in 1923 hosted by Col. Ed Fletcher\, then vice president of the Old Spanish Trail Association.  \nThe San Antonio\, Texas OST Headquarters Executive Director brought together California highway engineers and commissioners\, chambers of commerce and Good Roads Club members. They discussed how best to pave the OST into and across southern California. El Cajon Boulevard and the El Cajon to Alpine\, Pine Valley and Boulevard corridors were chosen as the OST route.  \n  \n  \n  \n  \n 
URL:https://wieghorstmuseum.org/event/building-old-highway-80/
LOCATION:Courtyard by Marriott San Diego El Cajon\, 141 N Magnolia Ave\, El Cajon\, CA\, 92020
ORGANIZER;CN="Charlotte Kahl":MAILTO:OST100Kahl@aol.com
END:VEVENT
BEGIN:VEVENT
DTSTART;VALUE=DATE:20231102
DTEND;VALUE=DATE:20231106
DTSTAMP:20260423T203234
CREATED:20230115T022757Z
LAST-MODIFIED:20230430T233542Z
UID:2118-1698883200-1699228799@wieghorstmuseum.org
SUMMARY:Old Spanish Trail Centennial Celebration
DESCRIPTION:In the fall of 1945\, Olaf Wieghorst drove with his wife and 14 year old son from St. Augustine\, Florida to El Cajon following a route known earlier as the Old Spanish Trail Highway. The highway was first conceived in 1915 and built out by the late 1920’s. By 1945\, the route was known as US Highway 90 between St. Augustine and San Antonio\, Texas\, and US Highway 80 between Texas and San Diego. \n  \n \n  \nIt is therefore our pleasure to host the opening reception of the Old Spanish Trail Centennial Association (OST100) Convention on Thursday\, November 2\, 2023 at the Wieghorst Museum. \nIf you would like to attend the convention\, become an exhibitor or event sponsor\, or just learn more about the event\, please see the Information and Registration Packet or contact the Centennial Association at:   OST100Kahl@aol.com \n# # # \nThe Old Spanish Trail (the OST) was an auto trail that once spanned the United States with almost 2\,750 miles (4\,430 km) of roadway from ocean to ocean. It crossed eight states and 67 counties along the southern border of the United States. Work on the auto highway began in 1915 at a meeting held at the Battle House Hotel in Mobile\, Alabama; and\, by the 1920s\, the trail linked St. Augustine\, Florida\, to San Diego\, California\, with its center and headquarters in San Antonio\, Texas. \nCalifornia involvement was spearheaded by real estate developer Colonel Ed Fletcher and supported by San Diego County Supervisors Joseph Foster (Lakeside) and Charles Good (of Lemon Grove). \nThis event is part of a decade-long centennial celebration which began in 2019 and will end with a 2029 motorcade from St. Augustine\, Florida to San Diego. \n  \n  \n  \n  \n  \n  \n  \n  \n  \n 
URL:https://wieghorstmuseum.org/event/old-spanish-trail/
LOCATION:Courtyard by Marriott San Diego El Cajon\, 141 N Magnolia Ave\, El Cajon\, CA\, 92020
ORGANIZER;CN="Charlotte Kahl":MAILTO:OST100Kahl@aol.com
END:VEVENT
BEGIN:VEVENT
DTSTART;TZID=UTC:20230217T110000
DTEND;TZID=UTC:20230217T130000
DTSTAMP:20260423T203234
CREATED:20220208T060951Z
LAST-MODIFIED:20230208T001036Z
UID:1710-1676631600-1676638800@wieghorstmuseum.org
SUMMARY:Un recorrido en Español - Spanish Language Tour
DESCRIPTION:Join Cesar Garcia for a Spanish language tour of the Olaf Wieghorst Museum. \nÚnase a César García para un recorrido en español por el Museo Olaf Wieghorst
URL:https://wieghorstmuseum.org/event/1710/
LOCATION:Olaf Wieghorst Museum\, 131 Rea Ave\, El Cajon\, CA\, 92020\, United States
END:VEVENT
BEGIN:VEVENT
DTSTART;VALUE=DATE:20230209
DTEND;VALUE=DATE:20230210
DTSTAMP:20260423T203234
CREATED:20220201T043918Z
LAST-MODIFIED:20230202T004133Z
UID:1706-1675900800-1675987199@wieghorstmuseum.org
SUMMARY:Leadership East County
DESCRIPTION:The East County Chamber of Commerce brings its Leadership East County program to the Wieghorst Museum.
URL:https://wieghorstmuseum.org/event/leadership-east-county/
LOCATION:Olaf Wieghorst Museum\, 131 Rea Ave\, El Cajon\, CA\, 92020\, United States
END:VEVENT
BEGIN:VEVENT
DTSTART;TZID=UTC:20221218T120000
DTEND;TZID=UTC:20221218T170000
DTSTAMP:20260423T203234
CREATED:20221014T200750Z
LAST-MODIFIED:20221120T192746Z
UID:2062-1671364800-1671382800@wieghorstmuseum.org
SUMMARY:Gail Nellans
DESCRIPTION:Gail Nellans is a local artist with a passion for bold designs. She is an impressionist painter who uses real objects as the base for her flight of imaginative art. \n\n\n\n\n\n\nNever quite sure where her brushes may take her\, she channels an unseen muse to arrive at artistic destinations. \n\n\n\n\n\n\nWe like this painting of her son taming a bronco on his Ramona Double S Ranch. You can almost feel the arena sand!\n\n\n\n\n\n\n\nYou can meet Gail Nellans and see her art at:  The Courtyard by Marriott El Cajon (across the street from the Wieghorst Museum).\n\n\n\n\nWant a sneak peek at her art?  Visit her gallery at: Vivid Art by Gail
URL:https://wieghorstmuseum.org/event/gail-nellans/
LOCATION:Courtyard by Marriott San Diego El Cajon\, 141 N Magnolia Ave\, El Cajon\, CA\, 92020
END:VEVENT
BEGIN:VEVENT
DTSTART;TZID=UTC:20221216T100000
DTEND;TZID=UTC:20221217T150000
DTSTAMP:20260423T203234
CREATED:20221215T024224Z
LAST-MODIFIED:20221215T024429Z
UID:2098-1671184800-1671289200@wieghorstmuseum.org
SUMMARY:Just in Time for Christmas Art Sale
DESCRIPTION:It’s the “JUST IN TIME FOR CHRISTMAS and White Elephant Art Sale.” \nThe Wieghorst Museum is cleaning out its storeroom and selling a selection of framed limited edition prints by Olaf Wieghorst\, framed originals and prints by other artists and several “white elephants” donated to the museum for resale. \nCheck out the items with pink “sale” tags. These items will make great Christmas gifts and the proceeds will be used to keep the museum doors open and lights on for another year. \n \nThe sale begins Friday\, December 16th and ends Friday\, December 23rd. We are open Fridays and Saturdays from 10 am to 3 pm. \nCall the museum 619-590-3431 for information.
URL:https://wieghorstmuseum.org/event/just-in-time-for-christmas-art-sale/
LOCATION:Olaf Wieghorst Museum\, 131 Rea Ave\, El Cajon\, CA\, 92020\, United States
END:VEVENT
BEGIN:VEVENT
DTSTART;TZID=UTC:20221210T110000
DTEND;TZID=UTC:20221210T140000
DTSTAMP:20260423T203234
CREATED:20221028T223923Z
LAST-MODIFIED:20221112T043951Z
UID:2072-1670670000-1670680800@wieghorstmuseum.org
SUMMARY:"A White Christmas" Holiday Tea
DESCRIPTION:Join the Friends of East County Arts for “A White Christmas” Holiday Tea.\nThis is the annual holiday fundraising event for San Diego East County arts and education organizations. \nEnjoy fellowship\, champagne\, finger sandwiches\, English scones\, decadent desserts\, door prizes\, opportunity drawings\, and amazing entertainment \n$75 Per Person  –  Seating is Limited. \nReserve Your Seat Now! \nFor further inquiries please email: ritakv@cox.net \nDeadline to register is November 28th\, 2022
URL:https://wieghorstmuseum.org/event/a-white-christmas-holiday-tea/
LOCATION:Ronald Reagan Community Center\, 195 East Douglas Avenue\, \, CA 92020\, El Cajon\, CA\, United States
END:VEVENT
BEGIN:VEVENT
DTSTART;TZID=UTC:20221119T170000
DTEND;TZID=UTC:20221119T200000
DTSTAMP:20260423T203234
CREATED:20221013T035024Z
LAST-MODIFIED:20221013T035024Z
UID:2037-1668877200-1668888000@wieghorstmuseum.org
SUMMARY:Artists Reception - Dusty Kinman
DESCRIPTION:The public is cordially invited to attend a reception for noted palette knife artist: Dusty Kinman. \nKnown for his dramatic landscape art featuring southwest themes\, his work will be on display in the Museum’s forward gallery. \nMeet the artist in an informal setting. \nAdmission is free. Free parking.
URL:https://wieghorstmuseum.org/event/artists-reception-dusty-kinman/
LOCATION:Olaf Wieghorst Museum\, 131 Rea Ave\, El Cajon\, CA\, 92020\, United States
END:VEVENT
BEGIN:VEVENT
DTSTART;TZID=UTC:20221119T120000
DTEND;TZID=UTC:20221119T140000
DTSTAMP:20260423T203234
CREATED:20221013T050025Z
LAST-MODIFIED:20221013T051836Z
UID:2051-1668859200-1668866400@wieghorstmuseum.org
SUMMARY:Painting with Palette Knives
DESCRIPTION:Painting with palette knives is a centuries old impasto technique often combined with more traditional application of paint using a brush. Few modern artists paint exclusively with palette knives. \nIf you would like to see how it is done\, the Olaf Wieghorst Museum is hosting a demonstration of palette knife art. \nYou can watch noted artist Dusty Kinman describe his technique as he creates an original work of landscape art. \nThis two hour presentation is open to Wieghorst Museum members\, donors and invited guests.  Tickets Required. \nNot a member? \nJoin today \nLearn more about membership in El Cajon’s number one museum of western art. \nLearn more
URL:https://wieghorstmuseum.org/event/painting-with-palette-knives/
LOCATION:Olaf Wieghorst Museum\, 131 Rea Ave\, El Cajon\, CA\, 92020\, United States
END:VEVENT
BEGIN:VEVENT
DTSTART;TZID=UTC:20221025T140000
DTEND;TZID=UTC:20221025T200000
DTSTAMP:20260423T203234
CREATED:20220801T231826Z
LAST-MODIFIED:20221013T063742Z
UID:1992-1666706400-1666728000@wieghorstmuseum.org
SUMMARY:Old Spanish Trail Centennial Association
DESCRIPTION:The Old Spanish Trail Centennial Association (OST100) is celebrating the centennial of the transcontinental highway between Saint Augustine\, Florida and San Diego. \n  \nThis is an orientation and planning meeting for individuals and groups interested in planning or sponsoring a San Diego – Imperial County celebration next year (in November of 2023). \n  \nThe association was organized to locate\, revitalize and preserve the roadway\, businesses and historic sites of the original 1920s OLD SPANISH TRAIL auto highway for a decade long Centennial Celebration with a 2029 motorcade grand finale from St. Augustine\, Florida to San Diego\, California. \nThe San Diego County sections of the Old Spanish Trail begin in downtown San Diego. The trail follows the approximate route of old U.S. Highway 80 with several variations and route changes over the years. The Imperial County sections also follows the US 80 corridor from Ocotillo to Yuma\, AZ\, the route includes the historic plank road section through the Imperial Sand Dunes. \nHeadquartered in San Antonio\, Texas\, OST100 has reenacted OST annual conferences in various cities since 2015. Local planning for past conferences has made for very successful seminars\, OST city and county exhibits\, walks and drives along the historic corridors. \nFor information or an invitation to the planning meeting\, please contact: Charlotte Kahl\, (210) 735-3503 or OST100Kahl@aol.com \n  \n 
URL:https://wieghorstmuseum.org/event/old-spanish-trail-centennial-association/
LOCATION:CA
ORGANIZER;CN="Charlotte Kahl":MAILTO:OST100Kahl@aol.com
END:VEVENT
BEGIN:VEVENT
DTSTART;TZID=UTC:20220930T110000
DTEND;TZID=UTC:20220930T130000
DTSTAMP:20260423T203234
CREATED:20220917T070032Z
LAST-MODIFIED:20220917T070032Z
UID:2027-1664535600-1664542800@wieghorstmuseum.org
SUMMARY:Un recorrido en Español - Spanish Language Tour
DESCRIPTION:Join Cesar Garcia for a Spanish language tour of the Olaf Wieghorst Museum. \n  \nÚnase a César García para un recorrido en español por el Museo Olaf Wieghorst
URL:https://wieghorstmuseum.org/event/un-recorrido-en-espanol-spanish-language-tour/
LOCATION:Olaf Wieghorst Museum\, 131 Rea Ave\, El Cajon\, CA\, 92020\, United States
END:VEVENT
BEGIN:VEVENT
DTSTART;TZID=UTC:20220423T160000
DTEND;TZID=UTC:20220423T190000
DTSTAMP:20260423T203234
CREATED:20220409T224608Z
LAST-MODIFIED:20220410T034437Z
UID:1841-1650729600-1650740400@wieghorstmuseum.org
SUMMARY:Artists Reception - Richard C Ybarra
DESCRIPTION:Richard C Ybarra \nThe public is cordially invited to attend a reception for noted photographer and artist: Richard C Ybarra. \nKnown for his Western Paintings\, prints and photographs\, his work will be on display in the Museum’s forward gallery. \nMeet the artist in an informal setting. \nAdmission is free. Free parking.
URL:https://wieghorstmuseum.org/event/artists-reception-richard-c-ybarra/
LOCATION:Olaf Wieghorst Museum\, 131 Rea Ave\, El Cajon\, CA\, 92020\, United States
END:VEVENT
BEGIN:VEVENT
DTSTART;TZID=UTC:20220423T100000
DTEND;TZID=UTC:20220522T150000
DTSTAMP:20260423T203234
CREATED:20220327T100548Z
LAST-MODIFIED:20220410T034520Z
UID:1794-1650708000-1653231600@wieghorstmuseum.org
SUMMARY:The WESTERN ART of Richard C Ybarra
DESCRIPTION:  \nSee the work of award winning artist Richard C Ybarra on exhibition at the museum Fridays and Saturdays 10 am to 3 pm. thru May 21st.
URL:https://wieghorstmuseum.org/event/western-art-of-richard-c-ybarra/
LOCATION:Olaf Wieghorst Museum\, 131 Rea Ave\, El Cajon\, CA\, 92020\, United States
END:VEVENT
BEGIN:VEVENT
DTSTART;TZID=UTC:20220319T100000
DTEND;TZID=UTC:20220319T140000
DTSTAMP:20260423T203234
CREATED:20220113T064238Z
LAST-MODIFIED:20220201T044218Z
UID:1607-1647684000-1647698400@wieghorstmuseum.org
SUMMARY:Plant Sale
DESCRIPTION:It’s the last day of Winter. Time to get ready for SPRING! \nWe have not held a plant sale for over three years and we are overflowing with plants that need a new home. These are plants grown by a professional horticulturist\, our own garden curator\, Mike Bostwick. Our focus is cactus and succulents and water-wise plants. All proceeds benefit the Olaf Wieghorst Museum.
URL:https://wieghorstmuseum.org/event/plant-sale/
LOCATION:Olaf Wieghorst Museum\, 131 Rea Ave\, El Cajon\, CA\, 92020\, United States
END:VEVENT
BEGIN:VEVENT
DTSTART;TZID=UTC:20220211T170000
DTEND;TZID=UTC:20220211T200000
DTSTAMP:20260423T203234
CREATED:20220124T073644Z
LAST-MODIFIED:20220130T080418Z
UID:1677-1644598800-1644609600@wieghorstmuseum.org
SUMMARY:Walking Tour of the Arts
DESCRIPTION:Looking for a place to go on that first date? Take a walking tour along Main Street in East County San Diego’s El Cajon Art and Entertainment District on the Friday before Valentines Day.
URL:https://wieghorstmuseum.org/event/walking-tour/
LOCATION:CA
END:VEVENT
BEGIN:VEVENT
DTSTART;TZID=UTC:20220128T110000
DTEND;TZID=UTC:20220128T130000
DTSTAMP:20260423T203234
CREATED:20220114T054506Z
LAST-MODIFIED:20220124T072321Z
UID:1619-1643367600-1643374800@wieghorstmuseum.org
SUMMARY:Meet Mike Bostwick\, Curator of the Desert Garden
DESCRIPTION:Meet Mike Bostwick\, Museum vice president and curator of our desert garden. Mike was formerly the horticultural director of the San Diego Zoo. He will conduct tours of the garden and answer your questions about the 200+ examples of cactus and succulents from all over the world.
URL:https://wieghorstmuseum.org/event/meet-mike-bostwick/
LOCATION:Olaf Wieghorst Museum\, 131 Rea Ave\, El Cajon\, CA\, 92020\, United States
END:VEVENT
BEGIN:VEVENT
DTSTART;VALUE=DATE:20211219
DTEND;VALUE=DATE:20220107
DTSTAMP:20260423T203234
CREATED:20211219T065910Z
LAST-MODIFIED:20211219T065910Z
UID:1549-1639872000-1641513599@wieghorstmuseum.org
SUMMARY:Closed for the Holidays
DESCRIPTION:The Wieghorst Museum will be closed though Thursday\, January 6\, 2022. We will be open on the Friday\, January 7th. Until then\, have a Merry Christmas and a Happy New Year.\nThe Painting\nViggo Johansen (3 January 1851 – 18 December 1935) was a Danish painter and like Olaf he showed a talent for drawing as a boy. He was one of Denmark’s most prominent painters in the 1890s. \nThe painting is titled\, (in Danish): Glade jul; (in English): Happy or Joyous Christmas (1891)\, Oil on Canvas 50” x 62.4”; original in the Hirschsprung Collection. \nViggo Johansen\, Public domain\, via Wikimedia Commons
URL:https://wieghorstmuseum.org/event/closed-for-the-holidays/
LOCATION:Olaf Wieghorst Museum\, 131 Rea Ave\, El Cajon\, CA\, 92020\, United States
END:VEVENT
BEGIN:VEVENT
DTSTART;TZID=UTC:20211031T140000
DTEND;TZID=UTC:20211031T160000
DTSTAMP:20260423T203234
CREATED:20211029T013448Z
LAST-MODIFIED:20211029T013448Z
UID:1531-1635688800-1635696000@wieghorstmuseum.org
SUMMARY:East County Antique Car Club Tour
DESCRIPTION:
URL:https://wieghorstmuseum.org/event/east-county-antique-car-club-tour/
LOCATION:CA
END:VEVENT
BEGIN:VEVENT
DTSTART;TZID=UTC:20211031T140000
DTEND;TZID=UTC:20211031T160000
DTSTAMP:20260423T203234
CREATED:20211029T012444Z
LAST-MODIFIED:20211029T012444Z
UID:1527-1635688800-1635696000@wieghorstmuseum.org
SUMMARY:Closing Reception of the "Salmagundis and Friends" Exhibit of Plein Air Paintings
DESCRIPTION:
URL:https://wieghorstmuseum.org/event/closing-reception-of-the-salmagundis-and-friends-exhibit-of-plein-air-paintings/
LOCATION:CA
END:VEVENT
BEGIN:VEVENT
DTSTART;VALUE=DATE:20211031
DTEND;VALUE=DATE:20211102
DTSTAMP:20260423T203234
CREATED:20211020T230940Z
LAST-MODIFIED:20211020T232002Z
UID:1430-1635638400-1635811199@wieghorstmuseum.org
SUMMARY:GhostRiders 2021
DESCRIPTION:
URL:https://wieghorstmuseum.org/event/ghostriders-2021/
LOCATION:CA
END:VEVENT
BEGIN:VEVENT
DTSTART;TZID=UTC:20211030T100000
DTEND;TZID=UTC:20211030T120000
DTSTAMP:20260423T203234
CREATED:20211029T012623Z
LAST-MODIFIED:20211029T012623Z
UID:1529-1635588000-1635595200@wieghorstmuseum.org
SUMMARY:La Vida Real Tour
DESCRIPTION:
URL:https://wieghorstmuseum.org/event/la-vida-real-tour/
LOCATION:CA
END:VEVENT
BEGIN:VEVENT
DTSTART;TZID=UTC:20211022T130000
DTEND;TZID=UTC:20211022T160000
DTSTAMP:20260423T203234
CREATED:20211021T040055Z
LAST-MODIFIED:20211021T040055Z
UID:1446-1634907600-1634918400@wieghorstmuseum.org
SUMMARY:El Cajon Historical Society Annual Meeting
DESCRIPTION:
URL:https://wieghorstmuseum.org/event/el-cajon-historical-society-annual-meeting/
LOCATION:CA
END:VEVENT
END:VCALENDAR